BEGIN:VCALENDAR
VERSION:2.0
PRODID:-//Squarespace Inc/Squarespace 6//v6//EN
BEGIN:VEVENT
UID:59afe998e6f2e1f5b60fc8d2@squarespace.com
DTSTAMP:20170906T123224Z
DTSTART:20170929T123000Z
DTEND:20171014T133000Z
SUMMARY:Dublin Festival of History
GEO:53.349805;-6.26031
LOCATION:Dublin\, Ireland
END:VEVENT
END:VCALENDAR
